BEGIN:VCALENDAR
VERSION:2.0
PRODID:-//Plone.org//NONSGML plone.app.event//EN
X-WR-TIMEZONE:Europe/Berlin
BEGIN:VEVENT
SUMMARY:FLAMENCO elementar - Carlos Saura / Sevillanas und Triana Pura y P
 ura
DTSTART;TZID=Europe/Berlin:20081021T203000
DTSTAMP:20260425T183012Z
UID:04ae719d18cf4b25b8f49a74f49f0de7@zmi.spielboden.at
CREATED:20120822T145634Z
DESCRIPTION:tanz ist FLAMENCO elementar 20 bis 25. Oktober 2008
LAST-MODIFIED:20210809T123759Z
URL:https://zmi.spielboden.at/Plone/veranstaltungen/2008/10_oktober/2008-1
 0-21-20-30-flamenco-elementar-carlos-saura-sevillanas-und-triana-pura-y-pu
 ra
END:VEVENT
BEGIN:VTIMEZONE
TZID:Europe/Berlin
X-LIC-LOCATION:Europe/Berlin
BEGIN:DAYLIGHT
DTSTART:20080330T030000
TZNAME:CEST
TZOFFSETFROM:+0100
TZOFFSETTO:+0200
END:DAYLIGHT
END:VTIMEZONE
END:VCALENDAR
