BEGIN:VCALENDAR
VERSION:2.0
PRODID:-//Plone.org//NONSGML plone.app.event//EN
X-WR-TIMEZONE:Europe/Berlin
BEGIN:VEVENT
SUMMARY:Signers Koffer
DTSTART;TZID=Europe/Berlin:20081018T203000
DTSTAMP:20260426T013612Z
UID:daa5432bb52544aa9a50b73ee4765a86@zmi.spielboden.at
CREATED:20120822T145648Z
DESCRIPTION:Schweizer Dokumentarfilme am Spielboden\, im Filmforum Bregen 
 und im FKC Dornbirn
LAST-MODIFIED:20210809T123802Z
URL:https://zmi.spielboden.at/Plone/veranstaltungen/2008/10_oktober/2008-1
 0-18-20-30-signers-koffer
END:VEVENT
BEGIN:VTIMEZONE
TZID:Europe/Berlin
X-LIC-LOCATION:Europe/Berlin
BEGIN:DAYLIGHT
DTSTART:20080330T030000
TZNAME:CEST
TZOFFSETFROM:+0100
TZOFFSETTO:+0200
END:DAYLIGHT
END:VTIMEZONE
END:VCALENDAR
