BEGIN:VCALENDAR
VERSION:2.0
PRODID:-//Plone.org//NONSGML plone.app.event//EN
X-WR-TIMEZONE:Europe/Berlin
BEGIN:VEVENT
SUMMARY:The Illchemists
DTSTART;TZID=Europe/Berlin:20081017T210000
DTSTAMP:20260425T235533Z
UID:6c170318d12f4334870232b4834647b5@zmi.spielboden.at
CREATED:20120822T145653Z
DESCRIPTION:British Underdog
LAST-MODIFIED:20210809T123803Z
URL:https://zmi.spielboden.at/Plone/veranstaltungen/2008/10_oktober/2008-1
 0-17-21-00-the-illchemists
END:VEVENT
BEGIN:VTIMEZONE
TZID:Europe/Berlin
X-LIC-LOCATION:Europe/Berlin
BEGIN:DAYLIGHT
DTSTART:20080330T030000
TZNAME:CEST
TZOFFSETFROM:+0100
TZOFFSETTO:+0200
END:DAYLIGHT
END:VTIMEZONE
END:VCALENDAR
