BEGIN:VCALENDAR
VERSION:2.0
PRODID:-//Plone.org//NONSGML plone.app.event//EN
X-WR-TIMEZONE:Europe/Berlin
BEGIN:VEVENT
SUMMARY:Clara Luzia & Gisbert zu Knyphausen
DTSTART;TZID=Europe/Berlin:20081016T210000
DTSTAMP:20260426T013051Z
UID:e0194f5ffeed4f49b819923779f51f43@zmi.spielboden.at
CREATED:20120822T145644Z
DESCRIPTION:SONGS & VOICES # 2
LAST-MODIFIED:20120910T114212Z
URL:https://zmi.spielboden.at/Plone/veranstaltungen/2008/10_oktober/2008-1
 0-16-21-00-clara-luzia-gisbert-zu-knyphausen
END:VEVENT
BEGIN:VTIMEZONE
TZID:Europe/Berlin
X-LIC-LOCATION:Europe/Berlin
BEGIN:DAYLIGHT
DTSTART:20080330T030000
TZNAME:CEST
TZOFFSETFROM:+0100
TZOFFSETTO:+0200
END:DAYLIGHT
END:VTIMEZONE
END:VCALENDAR
