BEGIN:VCALENDAR
VERSION:2.0
PRODID:-//Plone.org//NONSGML plone.app.event//EN
X-WR-TIMEZONE:Europe/Berlin
BEGIN:VEVENT
SUMMARY:Eyes of the Rainbow
DTSTART;TZID=Europe/Berlin:20081011T203000
DTSTAMP:20260425T235916Z
UID:5b32990eb1434efeabb08bd78787c848@zmi.spielboden.at
CREATED:20120822T145654Z
LAST-MODIFIED:20120910T114212Z
URL:https://zmi.spielboden.at/Plone/veranstaltungen/2008/10_oktober/2008-1
 0-11-20-30-eyes-of-the-rainbow
END:VEVENT
BEGIN:VTIMEZONE
TZID:Europe/Berlin
X-LIC-LOCATION:Europe/Berlin
BEGIN:DAYLIGHT
DTSTART:20080330T030000
TZNAME:CEST
TZOFFSETFROM:+0100
TZOFFSETTO:+0200
END:DAYLIGHT
END:VTIMEZONE
END:VCALENDAR
