BEGIN:VCALENDAR
VERSION:2.0
PRODID:-//Plone.org//NONSGML plone.app.event//EN
X-WR-TIMEZONE:Europe/Berlin
BEGIN:VEVENT
SUMMARY:Premiere - Lenchens Geheimnis
DTSTART;TZID=Europe/Berlin:20081011T150000
DTSTAMP:20260425T235717Z
UID:a68f7d173d02453aa1de6f009eb78fdf@zmi.spielboden.at
CREATED:20120822T145632Z
DESCRIPTION:nach der gleichnamigen Geschichte von Michael Ende\n
LAST-MODIFIED:20210809T123759Z
URL:https://zmi.spielboden.at/Plone/veranstaltungen/2008/10_oktober/2008-1
 0-11-15-00-premiere-lenchens-geheimnis
END:VEVENT
BEGIN:VTIMEZONE
TZID:Europe/Berlin
X-LIC-LOCATION:Europe/Berlin
BEGIN:DAYLIGHT
DTSTART:20080330T030000
TZNAME:CEST
TZOFFSETFROM:+0100
TZOFFSETTO:+0200
END:DAYLIGHT
END:VTIMEZONE
END:VCALENDAR
