BEGIN:VCALENDAR
VERSION:2.0
PRODID:-//Plone.org//NONSGML plone.app.event//EN
X-WR-TIMEZONE:Europe/Berlin
BEGIN:VEVENT
SUMMARY:JamSlam de la Poetry
DTSTART;TZID=Europe/Berlin:20081009T200000
DTSTAMP:20260425T223846Z
UID:98e063bcdc474a638fa318dc72d5868c@zmi.spielboden.at
CREATED:20120822T145644Z
LAST-MODIFIED:20120910T114212Z
URL:https://zmi.spielboden.at/Plone/veranstaltungen/2008/10_oktober/2008-1
 0-09-20-00-jamslam-de-la-poetry
END:VEVENT
BEGIN:VTIMEZONE
TZID:Europe/Berlin
X-LIC-LOCATION:Europe/Berlin
BEGIN:DAYLIGHT
DTSTART:20080330T030000
TZNAME:CEST
TZOFFSETFROM:+0100
TZOFFSETTO:+0200
END:DAYLIGHT
END:VTIMEZONE
END:VCALENDAR
