BEGIN:VCALENDAR
VERSION:2.0
PRODID:-//Plone.org//NONSGML plone.app.event//EN
X-WR-TIMEZONE:Europe/Berlin
BEGIN:VEVENT
SUMMARY:Bird's Nest
DTSTART;TZID=Europe/Berlin:20081004T203000
DTSTAMP:20260425T223218Z
UID:b8565d64269a4b22a139afdb8fa523dc@zmi.spielboden.at
CREATED:20120822T144446Z
DESCRIPTION:Schweizer Dokumentarfilme am Spielboden\, im Filmforum Bregen 
 und im FKC Dornbirn
LAST-MODIFIED:20210809T123432Z
URL:https://zmi.spielboden.at/Plone/veranstaltungen/2008/10_oktober/2008-1
 0-04-20-30-birds-nest
END:VEVENT
BEGIN:VTIMEZONE
TZID:Europe/Berlin
X-LIC-LOCATION:Europe/Berlin
BEGIN:DAYLIGHT
DTSTART:20080330T030000
TZNAME:CEST
TZOFFSETFROM:+0100
TZOFFSETTO:+0200
END:DAYLIGHT
END:VTIMEZONE
END:VCALENDAR
