BEGIN:VCALENDAR
VERSION:2.0
PRODID:-//Plone.org//NONSGML plone.app.event//EN
X-WR-TIMEZONE:Europe/Berlin
BEGIN:VEVENT
SUMMARY:Blombiene kommt aus Paris
DTSTART;TZID=Europe/Berlin:20081004T150000
DTSTAMP:20260425T235706Z
UID:30c61ab2b22c46abaedbeda97e7f9ee8@zmi.spielboden.at
CREATED:20120822T145632Z
DESCRIPTION:Clowntheater ab 5 Jahren
LAST-MODIFIED:20210809T123759Z
URL:https://zmi.spielboden.at/Plone/veranstaltungen/2008/10_oktober/2008-1
 0-04-15-00-blombiene-kommt-aus-paris
END:VEVENT
BEGIN:VTIMEZONE
TZID:Europe/Berlin
X-LIC-LOCATION:Europe/Berlin
BEGIN:DAYLIGHT
DTSTART:20080330T030000
TZNAME:CEST
TZOFFSETFROM:+0100
TZOFFSETTO:+0200
END:DAYLIGHT
END:VTIMEZONE
END:VCALENDAR
