BEGIN:VCALENDAR
VERSION:2.0
PRODID:-//Plone.org//NONSGML plone.app.event//EN
X-WR-TIMEZONE:Europe/Berlin
BEGIN:VEVENT
SUMMARY:Das Alphorn
DTSTART;TZID=Europe/Berlin:20081002T203000
DTSTAMP:20260426T025225Z
UID:129f047911364c389b111e5a7ede3069@zmi.spielboden.at
CREATED:20120822T145646Z
DESCRIPTION:Schweizer Dokumentarfilme am Spielboden\, im Filmforum Bregen 
 und im FKC Dornbirn
LAST-MODIFIED:20210809T123802Z
URL:https://zmi.spielboden.at/Plone/veranstaltungen/2008/10_oktober/2008-1
 0-02-20-30-das-alphorn
END:VEVENT
BEGIN:VTIMEZONE
TZID:Europe/Berlin
X-LIC-LOCATION:Europe/Berlin
BEGIN:DAYLIGHT
DTSTART:20080330T030000
TZNAME:CEST
TZOFFSETFROM:+0100
TZOFFSETTO:+0200
END:DAYLIGHT
END:VTIMEZONE
END:VCALENDAR
