BEGIN:VCALENDAR
VERSION:2.0
PRODID:-//Plone.org//NONSGML plone.app.event//EN
X-WR-TIMEZONE:Europe/Berlin
BEGIN:VEVENT
SUMMARY:Zu Fuß nach Santiago di Compostela
DTSTART;TZID=Europe/Berlin:20081001T203000
DTSTAMP:20260425T194734Z
UID:eb1ea1e6dbb84a83b28990aac06a1920@zmi.spielboden.at
CREATED:20120822T144429Z
LAST-MODIFIED:20210809T123428Z
URL:https://zmi.spielboden.at/Plone/veranstaltungen/2008/10_oktober/2008-1
 0-01-20-30-zu-fus-nach-santiago-di-compostela
END:VEVENT
BEGIN:VTIMEZONE
TZID:Europe/Berlin
X-LIC-LOCATION:Europe/Berlin
BEGIN:DAYLIGHT
DTSTART:20080330T030000
TZNAME:CEST
TZOFFSETFROM:+0100
TZOFFSETTO:+0200
END:DAYLIGHT
END:VTIMEZONE
END:VCALENDAR
