BEGIN:VCALENDAR
VERSION:2.0
PRODID:-//Plone.org//NONSGML plone.app.event//EN
X-WR-TIMEZONE:Europe/Berlin
BEGIN:VEVENT
SUMMARY:proFILE Jazz Festival – Elliott Sharp
DTSTART;TZID=Europe/Berlin:20080926T200000
DTSTAMP:20260425T222718Z
UID:e682879b90804d25a1857baf6d122041@zmi.spielboden.at
CREATED:20120822T145622Z
LAST-MODIFIED:20210809T123757Z
URL:https://zmi.spielboden.at/Plone/veranstaltungen/2008/09_september/2008
 -09-26-20-00-profile-jazz-festival-2013-elliott-sharp
END:VEVENT
BEGIN:VTIMEZONE
TZID:Europe/Berlin
X-LIC-LOCATION:Europe/Berlin
BEGIN:DAYLIGHT
DTSTART:20080330T030000
TZNAME:CEST
TZOFFSETFROM:+0100
TZOFFSETTO:+0200
END:DAYLIGHT
END:VTIMEZONE
END:VCALENDAR
