BEGIN:VCALENDAR
VERSION:2.0
PRODID:-//Plone.org//NONSGML plone.app.event//EN
X-WR-TIMEZONE:Europe/Berlin
BEGIN:VEVENT
SUMMARY:Control
DTSTART;TZID=Europe/Berlin:20080923T203000
DTSTAMP:20260426T040835Z
UID:b0f371ba30d54d87b60c0ea60160528c@zmi.spielboden.at
CREATED:20120822T145625Z
DESCRIPTION:Regie: Anton Corbijn\, GB/USA 2007\, 121 Minuten\, OF m. dt. U
 T\, digital
LAST-MODIFIED:20210809T123758Z
URL:https://zmi.spielboden.at/Plone/veranstaltungen/2008/09_september/2008
 -09-23-20-30-control
END:VEVENT
BEGIN:VTIMEZONE
TZID:Europe/Berlin
X-LIC-LOCATION:Europe/Berlin
BEGIN:DAYLIGHT
DTSTART:20080330T030000
TZNAME:CEST
TZOFFSETFROM:+0100
TZOFFSETTO:+0200
END:DAYLIGHT
END:VTIMEZONE
END:VCALENDAR
