BEGIN:VCALENDAR
VERSION:2.0
PRODID:-//Plone.org//NONSGML plone.app.event//EN
X-WR-TIMEZONE:Europe/Berlin
BEGIN:VEVENT
SUMMARY:Der Finanzkapitalismus und die Folgen für die Realwirtschaft und 
 den Sozialstaat
DTSTART;TZID=Europe/Berlin:20080922T193000
DTSTAMP:20260425T133221Z
UID:6e881ed739214a43ba9976cbad472e04@zmi.spielboden.at
CREATED:20120822T145623Z
DESCRIPTION:Vortrag von\nStephan Schulmeister
LAST-MODIFIED:20120910T114210Z
URL:https://zmi.spielboden.at/Plone/veranstaltungen/2008/09_september/2008
 -09-22-19-30-der-finanzkapitalismus-und-die-folgen-fuer-die-realwirtschaft
 -und-den-sozialstaat
END:VEVENT
BEGIN:VTIMEZONE
TZID:Europe/Berlin
X-LIC-LOCATION:Europe/Berlin
BEGIN:DAYLIGHT
DTSTART:20080330T030000
TZNAME:CEST
TZOFFSETFROM:+0100
TZOFFSETTO:+0200
END:DAYLIGHT
END:VTIMEZONE
END:VCALENDAR
