BEGIN:VCALENDAR
VERSION:2.0
PRODID:-//Plone.org//NONSGML plone.app.event//EN
X-WR-TIMEZONE:Europe/Berlin
BEGIN:VEVENT
SUMMARY:Once
DTSTART;TZID=Europe/Berlin:20080918T203000
DTSTAMP:20260425T192947Z
UID:aa9bb11950f743398fdfa2d50fc2fab7@zmi.spielboden.at
CREATED:20120822T145626Z
DESCRIPTION:Regie: John Carney\, Irland 2006\, 85 Minuten\, OF m. dt. UT\,
  digital
LAST-MODIFIED:20210809T123758Z
URL:https://zmi.spielboden.at/Plone/veranstaltungen/2008/09_september/2008
 -09-18-20-30-once
END:VEVENT
BEGIN:VTIMEZONE
TZID:Europe/Berlin
X-LIC-LOCATION:Europe/Berlin
BEGIN:DAYLIGHT
DTSTART:20080330T030000
TZNAME:CEST
TZOFFSETFROM:+0100
TZOFFSETTO:+0200
END:DAYLIGHT
END:VTIMEZONE
END:VCALENDAR
