BEGIN:VCALENDAR
VERSION:2.0
PRODID:-//Plone.org//NONSGML plone.app.event//EN
X-WR-TIMEZONE:Europe/Berlin
BEGIN:VEVENT
SUMMARY:SoundsNoise Festival - DJ Howdy
DTSTART;TZID=Europe/Berlin:20080913T230000
DTSTAMP:20260425T194437Z
UID:24947afb62794e9b968f0ad0df3b2aa2@zmi.spielboden.at
CREATED:20120822T145618Z
LAST-MODIFIED:20210809T123757Z
URL:https://zmi.spielboden.at/Plone/veranstaltungen/2008/09_september/2008
 -09-13-23-00-soundsnoise-festival-dj-howdy
END:VEVENT
BEGIN:VTIMEZONE
TZID:Europe/Berlin
X-LIC-LOCATION:Europe/Berlin
BEGIN:DAYLIGHT
DTSTART:20080330T030000
TZNAME:CEST
TZOFFSETFROM:+0100
TZOFFSETTO:+0200
END:DAYLIGHT
END:VTIMEZONE
END:VCALENDAR
