BEGIN:VCALENDAR
VERSION:2.0
PRODID:-//Plone.org//NONSGML plone.app.event//EN
X-WR-TIMEZONE:Europe/Berlin
BEGIN:VEVENT
SUMMARY:SoundsNoise Festival - Günther Gessert - Elektronik zum Ausprobie
 ren
DTSTART;TZID=Europe/Berlin:20080913T160000
DTSTAMP:20260425T121728Z
UID:763f2d66f4eb472d8b41a2334682e8e5@zmi.spielboden.at
CREATED:20120822T145615Z
LAST-MODIFIED:20210809T123756Z
URL:https://zmi.spielboden.at/Plone/veranstaltungen/2008/09_september/2008
 -09-13-16-00-soundsnoise-festival-guenther-gessert-elektronik-zum-ausprobi
 eren
END:VEVENT
BEGIN:VTIMEZONE
TZID:Europe/Berlin
X-LIC-LOCATION:Europe/Berlin
BEGIN:DAYLIGHT
DTSTART:20080330T030000
TZNAME:CEST
TZOFFSETFROM:+0100
TZOFFSETTO:+0200
END:DAYLIGHT
END:VTIMEZONE
END:VCALENDAR
