BEGIN:VCALENDAR
VERSION:2.0
PRODID:-//Plone.org//NONSGML plone.app.event//EN
X-WR-TIMEZONE:Europe/Berlin
BEGIN:VEVENT
SUMMARY:SoundsNoise Festival - DJ_MotionX
DTSTART;TZID=Europe/Berlin:20080911T230000
DTSTAMP:20260425T181729Z
UID:802010787a61409e9508f835d6d89a7a@zmi.spielboden.at
CREATED:20120822T145610Z
LAST-MODIFIED:20210809T123754Z
URL:https://zmi.spielboden.at/Plone/veranstaltungen/2008/09_september/2008
 -09-11-23-00-soundsnoise-festival-dj_motionx
END:VEVENT
BEGIN:VTIMEZONE
TZID:Europe/Berlin
X-LIC-LOCATION:Europe/Berlin
BEGIN:DAYLIGHT
DTSTART:20080330T030000
TZNAME:CEST
TZOFFSETFROM:+0100
TZOFFSETTO:+0200
END:DAYLIGHT
END:VTIMEZONE
END:VCALENDAR
