BEGIN:VCALENDAR
VERSION:2.0
PRODID:-//Plone.org//NONSGML plone.app.event//EN
X-WR-TIMEZONE:Europe/Berlin
BEGIN:VEVENT
SUMMARY:SoundsNoise Festival - Knackpunkt Null
DTSTART;TZID=Europe/Berlin:20080911T180000
DTSTAMP:20260425T122353Z
UID:b37ad40da1724a56aa5169f722672332@zmi.spielboden.at
CREATED:20120822T145609Z
LAST-MODIFIED:20210809T123753Z
URL:https://zmi.spielboden.at/Plone/veranstaltungen/2008/09_september/2008
 -09-11-18-00-soundsnoise-festival-knackpunkt-null
END:VEVENT
BEGIN:VTIMEZONE
TZID:Europe/Berlin
X-LIC-LOCATION:Europe/Berlin
BEGIN:DAYLIGHT
DTSTART:20080330T030000
TZNAME:CEST
TZOFFSETFROM:+0100
TZOFFSETTO:+0200
END:DAYLIGHT
END:VTIMEZONE
END:VCALENDAR
