BEGIN:VCALENDAR
VERSION:2.0
PRODID:-//Plone.org//NONSGML plone.app.event//EN
X-WR-TIMEZONE:Europe/Berlin
BEGIN:VEVENT
SUMMARY:10 Fragen an den Dalai Lama
DTSTART;TZID=Europe/Berlin:20080910T203000
DTSTAMP:20260425T211528Z
UID:4e34137b9efd4bc8aa60a44c1600e6db@zmi.spielboden.at
CREATED:20120822T145627Z
DESCRIPTION:Regie: Rick Ray\, USA 2006\, 85 Minuten\, digital\, OmU 
LAST-MODIFIED:20210809T123759Z
URL:https://zmi.spielboden.at/Plone/veranstaltungen/2008/09_september/2008
 -09-10-20-30-10-fragen-an-den-dalai-lama
END:VEVENT
BEGIN:VTIMEZONE
TZID:Europe/Berlin
X-LIC-LOCATION:Europe/Berlin
BEGIN:DAYLIGHT
DTSTART:20080330T030000
TZNAME:CEST
TZOFFSETFROM:+0100
TZOFFSETTO:+0200
END:DAYLIGHT
END:VTIMEZONE
END:VCALENDAR
