BEGIN:VCALENDAR
VERSION:2.0
PRODID:-//Plone.org//NONSGML plone.app.event//EN
X-WR-TIMEZONE:Europe/Berlin
BEGIN:VEVENT
SUMMARY:I'm not there
DTSTART;TZID=Europe/Berlin:20080905T203000
DTSTAMP:20260425T193547Z
UID:ddf70849d4a44a4dae07042a0a53cbe0@zmi.spielboden.at
CREATED:20120822T144446Z
DESCRIPTION:Regie: Todd Haynes\, USA 2007\, 135 Minuten\, OF m. dt. UT\, d
 igital
LAST-MODIFIED:20210809T123431Z
URL:https://zmi.spielboden.at/Plone/veranstaltungen/2008/09_september/2008
 -09-05-20-30-im-not-there
END:VEVENT
BEGIN:VTIMEZONE
TZID:Europe/Berlin
X-LIC-LOCATION:Europe/Berlin
BEGIN:DAYLIGHT
DTSTART:20080330T030000
TZNAME:CEST
TZOFFSETFROM:+0100
TZOFFSETTO:+0200
END:DAYLIGHT
END:VTIMEZONE
END:VCALENDAR
