BEGIN:VCALENDAR
VERSION:2.0
PRODID:-//Plone.org//NONSGML plone.app.event//EN
X-WR-TIMEZONE:Europe/Berlin
BEGIN:VEVENT
SUMMARY:JamSlam de la Poetry
DTSTART;TZID=Europe/Berlin:20080904T200000
DTSTAMP:20260425T164250Z
UID:9e06fed5839f4abaa3f571b0e1d6e45f@zmi.spielboden.at
CREATED:20120822T145619Z
LAST-MODIFIED:20120910T114210Z
URL:https://zmi.spielboden.at/Plone/veranstaltungen/2008/09_september/2008
 -09-04-20-00-jamslam-de-la-poetry
END:VEVENT
BEGIN:VTIMEZONE
TZID:Europe/Berlin
X-LIC-LOCATION:Europe/Berlin
BEGIN:DAYLIGHT
DTSTART:20080330T030000
TZNAME:CEST
TZOFFSETFROM:+0100
TZOFFSETTO:+0200
END:DAYLIGHT
END:VTIMEZONE
END:VCALENDAR
