BEGIN:VCALENDAR
VERSION:2.0
PRODID:-//Plone.org//NONSGML plone.app.event//EN
X-WR-TIMEZONE:Europe/Berlin
BEGIN:VEVENT
SUMMARY:Kantinestart
DTSTART;TZID=Europe/Berlin:20080819T190000
DTSTAMP:20260425T211425Z
UID:f2c7e11e971442b3b0e81be33b31ccd6@zmi.spielboden.at
CREATED:20120822T145630Z
LAST-MODIFIED:20120910T114211Z
URL:https://zmi.spielboden.at/Plone/veranstaltungen/2008/09_september/2008
 -08-19-19-00-kantinestart
END:VEVENT
BEGIN:VTIMEZONE
TZID:Europe/Berlin
X-LIC-LOCATION:Europe/Berlin
BEGIN:DAYLIGHT
DTSTART:20080330T030000
TZNAME:CEST
TZOFFSETFROM:+0100
TZOFFSETTO:+0200
END:DAYLIGHT
END:VTIMEZONE
END:VCALENDAR
