BEGIN:VCALENDAR
VERSION:2.0
PRODID:-//Plone.org//NONSGML plone.app.event//EN
X-WR-TIMEZONE:Europe/Berlin
BEGIN:VEVENT
SUMMARY:Sommerpause - Vorschau September 2008
DTSTART;TZID=Europe/Berlin:20080720T000000
DTSTAMP:20260425T222431Z
UID:59683a38d1074afeb222f12b4264ef4c@zmi.spielboden.at
CREATED:20120822T145605Z
LAST-MODIFIED:20120910T114207Z
URL:https://zmi.spielboden.at/Plone/veranstaltungen/2008/07_juli/2008-07-2
 0-00-00-sommerpause-vorschau-september-2008
END:VEVENT
BEGIN:VTIMEZONE
TZID:Europe/Berlin
X-LIC-LOCATION:Europe/Berlin
BEGIN:DAYLIGHT
DTSTART:20080330T030000
TZNAME:CEST
TZOFFSETFROM:+0100
TZOFFSETTO:+0200
END:DAYLIGHT
END:VTIMEZONE
END:VCALENDAR
