BEGIN:VCALENDAR
VERSION:2.0
PRODID:-//Plone.org//NONSGML plone.app.event//EN
X-WR-TIMEZONE:Europe/Berlin
BEGIN:VEVENT
SUMMARY:Wagabuntfestival - „Flasche leer“
DTSTART;TZID=Europe/Berlin:20080705T210000
DTSTAMP:20260425T194359Z
UID:6538c7af3e904d4f9d4b2a90e507b9dd@zmi.spielboden.at
CREATED:20120822T145602Z
DESCRIPTION:von Thilo Reffert
LAST-MODIFIED:20210809T123752Z
URL:https://zmi.spielboden.at/Plone/veranstaltungen/2008/07_juli/2008-07-0
 5-21-00-wagabuntfestival-201eflasche-leer201c
END:VEVENT
BEGIN:VTIMEZONE
TZID:Europe/Berlin
X-LIC-LOCATION:Europe/Berlin
BEGIN:DAYLIGHT
DTSTART:20080330T030000
TZNAME:CEST
TZOFFSETFROM:+0100
TZOFFSETTO:+0200
END:DAYLIGHT
END:VTIMEZONE
END:VCALENDAR
