BEGIN:VCALENDAR
VERSION:2.0
PRODID:-//Plone.org//NONSGML plone.app.event//EN
X-WR-TIMEZONE:Europe/Berlin
BEGIN:VEVENT
SUMMARY:Wagabuntfestival - „Barfuss Nackt Herz in der Hand“
DTSTART;TZID=Europe/Berlin:20080704T210000
DTSTAMP:20260425T182203Z
UID:b92888e095bb47858c42f1dad24b8034@zmi.spielboden.at
CREATED:20120822T145601Z
DESCRIPTION:Von Ali Jalaly. Ein Monolog des Gastarbeiters Ali.
LAST-MODIFIED:20210809T123752Z
URL:https://zmi.spielboden.at/Plone/veranstaltungen/2008/07_juli/2008-07-0
 4-21-00-wagabuntfestival-201ebarfuss-nackt-herz-in-der-hand201c
END:VEVENT
BEGIN:VTIMEZONE
TZID:Europe/Berlin
X-LIC-LOCATION:Europe/Berlin
BEGIN:DAYLIGHT
DTSTART:20080330T030000
TZNAME:CEST
TZOFFSETFROM:+0100
TZOFFSETTO:+0200
END:DAYLIGHT
END:VTIMEZONE
END:VCALENDAR
