BEGIN:VCALENDAR
VERSION:2.0
PRODID:-//Plone.org//NONSGML plone.app.event//EN
X-WR-TIMEZONE:Europe/Berlin
BEGIN:VEVENT
SUMMARY:Kicken für die Krone
DTSTART;TZID=Europe/Berlin:20080702T203000
DTSTAMP:20260425T223055Z
UID:9aebe4d967bf42cfbc0773bbd64e8e26@zmi.spielboden.at
CREATED:20120822T144424Z
LAST-MODIFIED:20210809T123427Z
URL:https://zmi.spielboden.at/Plone/veranstaltungen/2008/07_juli/2008-07-0
 2-20-30-kicken-fur-die-krone
END:VEVENT
BEGIN:VTIMEZONE
TZID:Europe/Berlin
X-LIC-LOCATION:Europe/Berlin
BEGIN:DAYLIGHT
DTSTART:20080330T030000
TZNAME:CEST
TZOFFSETFROM:+0100
TZOFFSETTO:+0200
END:DAYLIGHT
END:VTIMEZONE
END:VCALENDAR
