BEGIN:VCALENDAR
VERSION:2.0
PRODID:-//Plone.org//NONSGML plone.app.event//EN
X-WR-TIMEZONE:Europe/Berlin
BEGIN:VEVENT
SUMMARY:Kicken für die Krone
DTSTART;TZID=Europe/Berlin:20080627T203000
DTSTAMP:20260423T104720Z
UID:20726136ccb043e2832d953561fae4bd@zmi.spielboden.at
CREATED:20120822T144423Z
LAST-MODIFIED:20210809T123427Z
URL:https://zmi.spielboden.at/Plone/veranstaltungen/2008/06_juni/2008-06-2
 7-20-30-kicken-fur-die-krone
END:VEVENT
BEGIN:VTIMEZONE
TZID:Europe/Berlin
X-LIC-LOCATION:Europe/Berlin
BEGIN:DAYLIGHT
DTSTART:20080330T030000
TZNAME:CEST
TZOFFSETFROM:+0100
TZOFFSETTO:+0200
END:DAYLIGHT
END:VTIMEZONE
END:VCALENDAR
