BEGIN:VCALENDAR
VERSION:2.0
PRODID:-//Plone.org//NONSGML plone.app.event//EN
X-WR-TIMEZONE:Europe/Berlin
BEGIN:VEVENT
SUMMARY:The Globe
DTSTART;TZID=Europe/Berlin:20080621T210000
DTSTAMP:20260425T131840Z
UID:15a199bfb5bd42a5963d7c591a396682@zmi.spielboden.at
CREATED:20120822T145557Z
DESCRIPTION:The World at Home – Worldmusic-Dance 
LAST-MODIFIED:20210809T123752Z
URL:https://zmi.spielboden.at/Plone/veranstaltungen/2008/06_juni/2008-06-2
 1-21-00-the-globe
END:VEVENT
BEGIN:VTIMEZONE
TZID:Europe/Berlin
X-LIC-LOCATION:Europe/Berlin
BEGIN:DAYLIGHT
DTSTART:20080330T030000
TZNAME:CEST
TZOFFSETFROM:+0100
TZOFFSETTO:+0200
END:DAYLIGHT
END:VTIMEZONE
END:VCALENDAR
