BEGIN:VCALENDAR
VERSION:2.0
PRODID:-//Plone.org//NONSGML plone.app.event//EN
X-WR-TIMEZONE:Europe/Berlin
BEGIN:VEVENT
SUMMARY:Biergartenkino – Eleven Minutes
DTSTART;TZID=Europe/Berlin:20080620T220000
DTSTAMP:20260425T222012Z
UID:529ea2897b7b49e789f1c92ead2752fd@zmi.spielboden.at
CREATED:20120822T145556Z
DESCRIPTION:Zwei Halbzeiten\, ein Match
LAST-MODIFIED:20210809T123752Z
URL:https://zmi.spielboden.at/Plone/veranstaltungen/2008/06_juni/2008-06-2
 0-22-00-biergartenkino-2013-eleven-minutes
END:VEVENT
BEGIN:VTIMEZONE
TZID:Europe/Berlin
X-LIC-LOCATION:Europe/Berlin
BEGIN:DAYLIGHT
DTSTART:20080330T030000
TZNAME:CEST
TZOFFSETFROM:+0100
TZOFFSETTO:+0200
END:DAYLIGHT
END:VTIMEZONE
END:VCALENDAR
