BEGIN:VCALENDAR
VERSION:2.0
PRODID:-//Plone.org//NONSGML plone.app.event//EN
X-WR-TIMEZONE:Europe/Berlin
BEGIN:VEVENT
SUMMARY:tanz ist Festival 6. bis 14. Juni 2008 - Chris Haring / liquid lof
 t
DTSTART;TZID=Europe/Berlin:20080614T200000
DTSTAMP:20260425T181807Z
UID:b1346baa0418457abb2e70fab788ab02@zmi.spielboden.at
CREATED:20120822T145548Z
LAST-MODIFIED:20210809T123750Z
URL:https://zmi.spielboden.at/Plone/veranstaltungen/2008/06_juni/2008-06-1
 4-20-00-tanz-ist-festival-6-bis-14-juni-2008-chris-haring-liquid-loft
END:VEVENT
BEGIN:VTIMEZONE
TZID:Europe/Berlin
X-LIC-LOCATION:Europe/Berlin
BEGIN:DAYLIGHT
DTSTART:20080330T030000
TZNAME:CEST
TZOFFSETFROM:+0100
TZOFFSETTO:+0200
END:DAYLIGHT
END:VTIMEZONE
END:VCALENDAR
