BEGIN:VCALENDAR
VERSION:2.0
PRODID:-//Plone.org//NONSGML plone.app.event//EN
X-WR-TIMEZONE:Europe/Berlin
BEGIN:VEVENT
SUMMARY:tanz ist Festival 6. bis 14. Juni 2008 - Chris Haring / Mara Mattu
 schka
DTSTART;TZID=Europe/Berlin:20080612T203000
DTSTAMP:20260425T182343Z
UID:792f9b2dfb5a4704aafe5a69b6e85192@zmi.spielboden.at
CREATED:20120822T145549Z
LAST-MODIFIED:20210809T123751Z
URL:https://zmi.spielboden.at/Plone/veranstaltungen/2008/06_juni/2008-06-1
 2-20-30-tanz-ist-festival-6-bis-14-juni-2008-chris-haring-mara-mattuschka
END:VEVENT
BEGIN:VTIMEZONE
TZID:Europe/Berlin
X-LIC-LOCATION:Europe/Berlin
BEGIN:DAYLIGHT
DTSTART:20080330T030000
TZNAME:CEST
TZOFFSETFROM:+0100
TZOFFSETTO:+0200
END:DAYLIGHT
END:VTIMEZONE
END:VCALENDAR
