BEGIN:VCALENDAR
VERSION:2.0
PRODID:-//Plone.org//NONSGML plone.app.event//EN
X-WR-TIMEZONE:Europe/Berlin
BEGIN:VEVENT
SUMMARY:tanz ist Festival 6. bis 14. Juni 2008 - Contemporary Release mit 
 Elio Gervasi
DTSTART;TZID=Europe/Berlin:20080612T163000
DTSTAMP:20260425T164947Z
UID:543bb1aeed9c42c98d6c4c26c124c067@zmi.spielboden.at
CREATED:20120822T145550Z
LAST-MODIFIED:20210809T123751Z
URL:https://zmi.spielboden.at/Plone/veranstaltungen/2008/06_juni/2008-06-1
 2-16-30-tanz-ist-festival-6-bis-14-juni-2008-contemporary-release-mit-elio
 -gervasi
END:VEVENT
BEGIN:VTIMEZONE
TZID:Europe/Berlin
X-LIC-LOCATION:Europe/Berlin
BEGIN:DAYLIGHT
DTSTART:20080330T030000
TZNAME:CEST
TZOFFSETFROM:+0100
TZOFFSETTO:+0200
END:DAYLIGHT
END:VTIMEZONE
END:VCALENDAR
