BEGIN:VCALENDAR
VERSION:2.0
PRODID:-//Plone.org//NONSGML plone.app.event//EN
X-WR-TIMEZONE:Europe/Berlin
BEGIN:VEVENT
SUMMARY:tanz ist Festival 6. bis 14. Juni 2008 - Georg Blaschke (A) - kör
 per. bauen. stellen – Version Trio - Vorpremiere
DTSTART;TZID=Europe/Berlin:20080611T211500
DTSTAMP:20260425T182530Z
UID:f20396ba83d9478ca3b5c7f3d5565b96@zmi.spielboden.at
CREATED:20120822T145543Z
LAST-MODIFIED:20210809T123749Z
URL:https://zmi.spielboden.at/Plone/veranstaltungen/2008/06_juni/2008-06-1
 1-21-15-tanz-ist-festival-6-bis-14-juni-2008-georg-blaschke-a-koerper-baue
 n-stellen-2013-version-trio-vorpremiere
END:VEVENT
BEGIN:VTIMEZONE
TZID:Europe/Berlin
X-LIC-LOCATION:Europe/Berlin
BEGIN:DAYLIGHT
DTSTART:20080330T030000
TZNAME:CEST
TZOFFSETFROM:+0100
TZOFFSETTO:+0200
END:DAYLIGHT
END:VTIMEZONE
END:VCALENDAR
