BEGIN:VCALENDAR
VERSION:2.0
PRODID:-//Plone.org//NONSGML plone.app.event//EN
X-WR-TIMEZONE:Europe/Berlin
BEGIN:VEVENT
SUMMARY:tanz ist Festival 6. bis 14. Juni 2008 - Günter Marinelli - Schaf
 skälte
DTSTART;TZID=Europe/Berlin:20080611T200000
DTSTAMP:20260423T093535Z
UID:6c093e374c614c838a63728742857b26@zmi.spielboden.at
CREATED:20120822T145544Z
LAST-MODIFIED:20210809T123749Z
URL:https://zmi.spielboden.at/Plone/veranstaltungen/2008/06_juni/2008-06-1
 1-20-00-tanz-ist-festival-6-bis-14-juni-2008-guenter-marinelli-schafskaelt
 e
END:VEVENT
BEGIN:VTIMEZONE
TZID:Europe/Berlin
X-LIC-LOCATION:Europe/Berlin
BEGIN:DAYLIGHT
DTSTART:20080330T030000
TZNAME:CEST
TZOFFSETFROM:+0100
TZOFFSETTO:+0200
END:DAYLIGHT
END:VTIMEZONE
END:VCALENDAR
