BEGIN:VCALENDAR
VERSION:2.0
PRODID:-//Plone.org//NONSGML plone.app.event//EN
X-WR-TIMEZONE:Europe/Berlin
BEGIN:VEVENT
SUMMARY:tanz ist Festival 6. bis 14. Juni 2008 - Konzert - m3k
DTSTART;TZID=Europe/Berlin:20080606T220000
DTSTAMP:20260423T093311Z
UID:facb7fe326d94c4fb2c12d3ff30c231a@zmi.spielboden.at
CREATED:20120822T145559Z
DESCRIPTION:m3k spielt zur Eröffnung des tanz ist Festival 2008
LAST-MODIFIED:20120910T114206Z
URL:https://zmi.spielboden.at/Plone/veranstaltungen/2008/06_juni/2008-06-0
 6-22-00-tanz-ist-festival-6-bis-14-juni-2008-konzert-m3k
END:VEVENT
BEGIN:VTIMEZONE
TZID:Europe/Berlin
X-LIC-LOCATION:Europe/Berlin
BEGIN:DAYLIGHT
DTSTART:20080330T030000
TZNAME:CEST
TZOFFSETFROM:+0100
TZOFFSETTO:+0200
END:DAYLIGHT
END:VTIMEZONE
END:VCALENDAR
