BEGIN:VCALENDAR
VERSION:2.0
PRODID:-//Plone.org//NONSGML plone.app.event//EN
X-WR-TIMEZONE:Europe/Berlin
BEGIN:VEVENT
SUMMARY:tanz ist Festival 6. bis 14. Juni 2008 – Kompanie Ayelen Parolin
  (Brüssel) – Troupeau / Rebaño - Österreichpremiere
DTSTART;TZID=Europe/Berlin:20080606T203000
DTSTAMP:20260423T093704Z
UID:7bf9a41d770a4e5788f951749e0a5172@zmi.spielboden.at
CREATED:20120822T145540Z
LAST-MODIFIED:20210809T123748Z
URL:https://zmi.spielboden.at/Plone/veranstaltungen/2008/06_juni/2008-06-0
 6-20-30-tanz-ist-festival-6-bis-14-juni-2008-2013-kompanie-ayelen-parolin-
 bruessel-2013-troupeau-rebano-oesterreichpremiere
END:VEVENT
BEGIN:VTIMEZONE
TZID:Europe/Berlin
X-LIC-LOCATION:Europe/Berlin
BEGIN:DAYLIGHT
DTSTART:20080330T030000
TZNAME:CEST
TZOFFSETFROM:+0100
TZOFFSETTO:+0200
END:DAYLIGHT
END:VTIMEZONE
END:VCALENDAR
