BEGIN:VCALENDAR
VERSION:2.0
PRODID:-//Plone.org//NONSGML plone.app.event//EN
X-WR-TIMEZONE:Europe/Berlin
BEGIN:VEVENT
SUMMARY:Kurzpässe. Glanzparaden am Spielfeldrand
DTSTART;TZID=Europe/Berlin:20080604T203000
DTSTAMP:20260425T223234Z
UID:89f9c2d5ef6d4367a729088118625f2c@zmi.spielboden.at
CREATED:20120822T144445Z
LAST-MODIFIED:20210809T123431Z
URL:https://zmi.spielboden.at/Plone/veranstaltungen/2008/06_juni/2008-06-0
 4-20-30-kurzpasse-glanzparaden-am-spielfeldrand
END:VEVENT
BEGIN:VTIMEZONE
TZID:Europe/Berlin
X-LIC-LOCATION:Europe/Berlin
BEGIN:DAYLIGHT
DTSTART:20080330T030000
TZNAME:CEST
TZOFFSETFROM:+0100
TZOFFSETTO:+0200
END:DAYLIGHT
END:VTIMEZONE
END:VCALENDAR
