BEGIN:VCALENDAR
VERSION:2.0
PRODID:-//Plone.org//NONSGML plone.app.event//EN
X-WR-TIMEZONE:Europe/Berlin
BEGIN:VEVENT
SUMMARY:Poetry Slam - Kampf der Dichter
DTSTART;TZID=Europe/Berlin:20080530T200000
DTSTAMP:20260423T080013Z
UID:330c0d3c6d4f484eb192c2ad5c5aa700@zmi.spielboden.at
CREATED:20120822T145507Z
LAST-MODIFIED:20210809T123741Z
URL:https://zmi.spielboden.at/Plone/veranstaltungen/2008/05_mai/2008-05-30
 -20-00-poetry-slam-kampf-der-dichter
END:VEVENT
BEGIN:VTIMEZONE
TZID:Europe/Berlin
X-LIC-LOCATION:Europe/Berlin
BEGIN:DAYLIGHT
DTSTART:20080330T030000
TZNAME:CEST
TZOFFSETFROM:+0100
TZOFFSETTO:+0200
END:DAYLIGHT
END:VTIMEZONE
END:VCALENDAR
