BEGIN:VCALENDAR
VERSION:2.0
PRODID:-//Plone.org//NONSGML plone.app.event//EN
X-WR-TIMEZONE:Europe/Berlin
BEGIN:VEVENT
SUMMARY:Schoren rockt!
DTSTART;TZID=Europe/Berlin:20080528T190000
DTSTAMP:20260423T092934Z
UID:96f2e83a11e344bd9628d4289750e850@zmi.spielboden.at
CREATED:20120822T145532Z
LAST-MODIFIED:20120910T114205Z
URL:https://zmi.spielboden.at/Plone/veranstaltungen/2008/05_mai/2008-05-28
 -19-00-schoren-rockt
END:VEVENT
BEGIN:VTIMEZONE
TZID:Europe/Berlin
X-LIC-LOCATION:Europe/Berlin
BEGIN:DAYLIGHT
DTSTART:20080330T030000
TZNAME:CEST
TZOFFSETFROM:+0100
TZOFFSETTO:+0200
END:DAYLIGHT
END:VTIMEZONE
END:VCALENDAR
