BEGIN:VCALENDAR
VERSION:2.0
PRODID:-//Plone.org//NONSGML plone.app.event//EN
X-WR-TIMEZONE:Europe/Berlin
BEGIN:VEVENT
SUMMARY:Filmpremiere – "Jodeln in Indien – der Gegenbesuch"
DTSTART;TZID=Europe/Berlin:20080523T180000
DTSTAMP:20260423T093357Z
UID:5951035f67304640bbabe2ee73f72973@zmi.spielboden.at
CREATED:20120822T145530Z
LAST-MODIFIED:20210809T123746Z
URL:https://zmi.spielboden.at/Plone/veranstaltungen/2008/05_mai/2008-05-23
 -18-00-filmpremiere-2013-jodeln-in-indien-2013-der-gegenbesuch
END:VEVENT
BEGIN:VTIMEZONE
TZID:Europe/Berlin
X-LIC-LOCATION:Europe/Berlin
BEGIN:DAYLIGHT
DTSTART:20080330T030000
TZNAME:CEST
TZOFFSETFROM:+0100
TZOFFSETTO:+0200
END:DAYLIGHT
END:VTIMEZONE
END:VCALENDAR
