BEGIN:VCALENDAR
VERSION:2.0
PRODID:-//Plone.org//NONSGML plone.app.event//EN
X-WR-TIMEZONE:Europe/Berlin
BEGIN:VEVENT
SUMMARY:Big John Bates and the Voodoo Dollz
DTSTART;TZID=Europe/Berlin:20080522T210000
DTSTAMP:20260423T093007Z
UID:1ccc36fbf97d4c618551b850f586c319@zmi.spielboden.at
CREATED:20120822T145532Z
DESCRIPTION:"...it's a HOT ROD BLUES Rock'n Roll BURLESQUE SHOW!"
LAST-MODIFIED:20210809T123746Z
URL:https://zmi.spielboden.at/Plone/veranstaltungen/2008/05_mai/2008-05-22
 -21-00-big-john-bates-and-the-voodoo-dollz
END:VEVENT
BEGIN:VTIMEZONE
TZID:Europe/Berlin
X-LIC-LOCATION:Europe/Berlin
BEGIN:DAYLIGHT
DTSTART:20080330T030000
TZNAME:CEST
TZOFFSETFROM:+0100
TZOFFSETTO:+0200
END:DAYLIGHT
END:VTIMEZONE
END:VCALENDAR
