BEGIN:VCALENDAR
VERSION:2.0
PRODID:-//Plone.org//NONSGML plone.app.event//EN
X-WR-TIMEZONE:Europe/Berlin
BEGIN:VEVENT
SUMMARY:Matthias Schriefl & Shreefpunk
DTSTART;TZID=Europe/Berlin:20080521T203000
DTSTAMP:20260423T092945Z
UID:d892b9025382475893ee8b27336fde3a@zmi.spielboden.at
CREATED:20120822T145539Z
LAST-MODIFIED:20210809T123747Z
URL:https://zmi.spielboden.at/Plone/veranstaltungen/2008/05_mai/2008-05-21
 -20-30-matthias-schriefl-shreefpunk
END:VEVENT
BEGIN:VTIMEZONE
TZID:Europe/Berlin
X-LIC-LOCATION:Europe/Berlin
BEGIN:DAYLIGHT
DTSTART:20080330T030000
TZNAME:CEST
TZOFFSETFROM:+0100
TZOFFSETTO:+0200
END:DAYLIGHT
END:VTIMEZONE
END:VCALENDAR
