BEGIN:VCALENDAR
VERSION:2.0
PRODID:-//Plone.org//NONSGML plone.app.event//EN
X-WR-TIMEZONE:Europe/Berlin
BEGIN:VEVENT
SUMMARY:Dana Leong Band
DTSTART;TZID=Europe/Berlin:20080521T203000
DTSTAMP:20260423T075918Z
UID:e2093c30f0ff411caefa7581ae9766f0@zmi.spielboden.at
CREATED:20120822T145507Z
LAST-MODIFIED:20120910T114203Z
URL:https://zmi.spielboden.at/Plone/veranstaltungen/2008/05_mai/2008-05-21
 -20-30-dana-leong-band
END:VEVENT
BEGIN:VTIMEZONE
TZID:Europe/Berlin
X-LIC-LOCATION:Europe/Berlin
BEGIN:DAYLIGHT
DTSTART:20080330T030000
TZNAME:CEST
TZOFFSETFROM:+0100
TZOFFSETTO:+0200
END:DAYLIGHT
END:VTIMEZONE
END:VCALENDAR
