BEGIN:VCALENDAR
VERSION:2.0
PRODID:-//Plone.org//NONSGML plone.app.event//EN
X-WR-TIMEZONE:Europe/Berlin
BEGIN:VEVENT
SUMMARY:Poetry Slam Workshop
DTSTART;TZID=Europe/Berlin:20080521T190000
DTSTAMP:20260423T092935Z
UID:a565915bfbf14d95bdfc3cb3e7f2fb92@zmi.spielboden.at
CREATED:20120822T145529Z
DESCRIPTION:Dichter werden?!
LAST-MODIFIED:20210809T123746Z
URL:https://zmi.spielboden.at/Plone/veranstaltungen/2008/05_mai/2008-05-21
 -19-00-poetry-slam-workshop
END:VEVENT
BEGIN:VTIMEZONE
TZID:Europe/Berlin
X-LIC-LOCATION:Europe/Berlin
BEGIN:DAYLIGHT
DTSTART:20080330T030000
TZNAME:CEST
TZOFFSETFROM:+0100
TZOFFSETTO:+0200
END:DAYLIGHT
END:VTIMEZONE
END:VCALENDAR
