BEGIN:VCALENDAR
VERSION:2.0
PRODID:-//Plone.org//NONSGML plone.app.event//EN
X-WR-TIMEZONE:Europe/Berlin
BEGIN:VEVENT
SUMMARY:Pepper
DTSTART;TZID=Europe/Berlin:20080518T200000
DTSTAMP:20260423T092900Z
UID:150d80c47de7491a867fa20c6bcf6839@zmi.spielboden.at
CREATED:20120822T145527Z
LAST-MODIFIED:20210809T123745Z
URL:https://zmi.spielboden.at/Plone/veranstaltungen/2008/05_mai/2008-05-18
 -20-00-pepper
END:VEVENT
BEGIN:VTIMEZONE
TZID:Europe/Berlin
X-LIC-LOCATION:Europe/Berlin
BEGIN:DAYLIGHT
DTSTART:20080330T030000
TZNAME:CEST
TZOFFSETFROM:+0100
TZOFFSETTO:+0200
END:DAYLIGHT
END:VTIMEZONE
END:VCALENDAR
