BEGIN:VCALENDAR
VERSION:2.0
PRODID:-//Plone.org//NONSGML plone.app.event//EN
X-WR-TIMEZONE:Europe/Berlin
BEGIN:VEVENT
SUMMARY:Kuba-Filmabend – Eyes of the Rainbow und Oggun: An Eternal Prese
 nce
DTSTART;TZID=Europe/Berlin:20080517T203000
DTSTAMP:20260423T085040Z
UID:88f424739eab447596dbd3aee8fc0357@zmi.spielboden.at
CREATED:20120822T145538Z
DESCRIPTION:Die Kuba-Expertin Lucia Mennel präsentiert die Filmemacherin 
 Gloria Rolando mit 2 Filmen\, gibt eine kurze Einführung und steht für F
 ragen und Gespräche zur Verfügung.
LAST-MODIFIED:20210809T123747Z
URL:https://zmi.spielboden.at/Plone/veranstaltungen/2008/05_mai/2008-05-17
 -20-30-kuba-filmabend-2013-eyes-of-the-rainbow-und-oggun-an-eternal-presen
 ce
END:VEVENT
BEGIN:VTIMEZONE
TZID:Europe/Berlin
X-LIC-LOCATION:Europe/Berlin
BEGIN:DAYLIGHT
DTSTART:20080330T030000
TZNAME:CEST
TZOFFSETFROM:+0100
TZOFFSETTO:+0200
END:DAYLIGHT
END:VTIMEZONE
END:VCALENDAR
