BEGIN:VCALENDAR
VERSION:2.0
PRODID:-//Plone.org//NONSGML plone.app.event//EN
X-WR-TIMEZONE:Europe/Berlin
BEGIN:VEVENT
SUMMARY:CD-Präsentation – holstuonarmusigbigbandclub
DTSTART;TZID=Europe/Berlin:20080517T203000
DTSTAMP:20260423T080419Z
UID:e7e45603231746cbb2bd382f65429849@zmi.spielboden.at
CREATED:20120822T145527Z
LAST-MODIFIED:20210809T123745Z
URL:https://zmi.spielboden.at/Plone/veranstaltungen/2008/05_mai/2008-05-17
 -20-30-cd-praesentation-2013-holstuonarmusigbigbandclub
END:VEVENT
BEGIN:VTIMEZONE
TZID:Europe/Berlin
X-LIC-LOCATION:Europe/Berlin
BEGIN:DAYLIGHT
DTSTART:20080330T030000
TZNAME:CEST
TZOFFSETFROM:+0100
TZOFFSETTO:+0200
END:DAYLIGHT
END:VTIMEZONE
END:VCALENDAR
