BEGIN:VCALENDAR
VERSION:2.0
PRODID:-//Plone.org//NONSGML plone.app.event//EN
X-WR-TIMEZONE:Europe/Berlin
BEGIN:VEVENT
SUMMARY:Sonic Cafe mit Fräulein Cicibe
DTSTART;TZID=Europe/Berlin:20080516T220000
DTSTAMP:20260423T075317Z
UID:062b81c050ba46f7be2cd25c388a5987@zmi.spielboden.at
CREATED:20120822T145520Z
LAST-MODIFIED:20120910T114204Z
URL:https://zmi.spielboden.at/Plone/veranstaltungen/2008/05_mai/2008-05-16
 -22-00-sonic-cafe-mit-fraeulein-cicibe
END:VEVENT
BEGIN:VTIMEZONE
TZID:Europe/Berlin
X-LIC-LOCATION:Europe/Berlin
BEGIN:DAYLIGHT
DTSTART:20080330T030000
TZNAME:CEST
TZOFFSETFROM:+0100
TZOFFSETTO:+0200
END:DAYLIGHT
END:VTIMEZONE
END:VCALENDAR
