BEGIN:VCALENDAR
VERSION:2.0
PRODID:-//Plone.org//NONSGML plone.app.event//EN
X-WR-TIMEZONE:Europe/Berlin
BEGIN:VEVENT
SUMMARY:CD-Präsentation – Matt Boroff and the Mirrors – „Elevator R
 ide“
DTSTART;TZID=Europe/Berlin:20080516T210000
DTSTAMP:20260423T093114Z
UID:9fb057b7296947fa8daa1c8637f42647@zmi.spielboden.at
CREATED:20120822T145526Z
DESCRIPTION:anschließden Sonic Cafe mit Fräulein Cicibe
LAST-MODIFIED:20210809T123745Z
URL:https://zmi.spielboden.at/Plone/veranstaltungen/2008/05_mai/2008-05-16
 -21-00-cd-praesentation-2013-matt-boroff-and-the-mirrors-2013-201eelevator
 -ride201c
END:VEVENT
BEGIN:VTIMEZONE
TZID:Europe/Berlin
X-LIC-LOCATION:Europe/Berlin
BEGIN:DAYLIGHT
DTSTART:20080330T030000
TZNAME:CEST
TZOFFSETFROM:+0100
TZOFFSETTO:+0200
END:DAYLIGHT
END:VTIMEZONE
END:VCALENDAR
